Package: interacCircos Version: 1.12.0 Command: /Library/Frameworks/R.framework/Resources/bin/R CMD INSTALL interacCircos StartedAt: 2024-04-16 11:24:31 -0400 (Tue, 16 Apr 2024) EndedAt: 2024-04-16 11:24:37 -0400 (Tue, 16 Apr 2024) EllapsedTime: 5.5 seconds RetCode: 0 Status: OK