Package: impute Version: 1.76.0 Command: /Library/Frameworks/R.framework/Resources/bin/R CMD INSTALL impute StartedAt: 2024-04-16 10:01:55 -0400 (Tue, 16 Apr 2024) EndedAt: 2024-04-16 10:02:03 -0400 (Tue, 16 Apr 2024) EllapsedTime: 7.7 seconds RetCode: 0 Status: OK