Package: immunotation Version: 1.10.0 Command: /Library/Frameworks/R.framework/Resources/bin/R CMD check --install=check:immunotation.install-out.txt --library=/Library/Frameworks/R.framework/Resources/library --no-vignettes --timings immunotation_1.10.0.tar.gz StartedAt: 2024-04-17 16:54:54 -0400 (Wed, 17 Apr 2024) EndedAt: 2024-04-17 16:58:32 -0400 (Wed, 17 Apr 2024) EllapsedTime: 218.1 seconds RetCode: 0 Status: OK CheckDir: immunotation.Rcheck Warnings: 0