Package: immunotation Version: 1.10.0 Command: rm -rf immunotation.buildbin-libdir && mkdir immunotation.buildbin-libdir && /Users/biocbuild/BBS/utils/build-universal.sh immunotation_1.10.0.tar.gz /Library/Frameworks/R.framework/Resources/bin/R immunotation.buildbin-libdir StartedAt: 2024-04-18 09:44:35 -0400 (Thu, 18 Apr 2024) EndedAt: 2024-04-18 09:47:07 -0400 (Thu, 18 Apr 2024) EllapsedTime: 152.7 seconds RetCode: 0 Status: OK PackageFile: immunotation_1.10.0.tgz PackageFileSize: 4.255 MiB