Package: illuminaio Version: 0.44.0 Command: /Library/Frameworks/R.framework/Resources/bin/R CMD build --keep-empty-dirs --no-resave-data illuminaio StartedAt: 2024-04-16 20:14:39 -0400 (Tue, 16 Apr 2024) EndedAt: 2024-04-16 20:15:04 -0400 (Tue, 16 Apr 2024) EllapsedTime: 24.9 seconds RetCode: 0 Status: OK PackageFile: illuminaio_0.44.0.tar.gz PackageFileSize: 429 KiB