Package: igvR Version: 1.22.0 Command: /Library/Frameworks/R.framework/Resources/bin/R CMD INSTALL igvR StartedAt: 2024-04-16 11:08:57 -0400 (Tue, 16 Apr 2024) EndedAt: 2024-04-16 11:09:52 -0400 (Tue, 16 Apr 2024) EllapsedTime: 54.6 seconds RetCode: 0 Status: OK