Package: idr2d Version: 1.16.0 Command: rm -rf idr2d.buildbin-libdir && mkdir idr2d.buildbin-libdir && /Users/biocbuild/BBS/utils/build-universal.sh idr2d_1.16.0.tar.gz /Library/Frameworks/R.framework/Resources/bin/R idr2d.buildbin-libdir StartedAt: 2024-04-18 09:43:26 -0400 (Thu, 18 Apr 2024) EndedAt: 2024-04-18 09:43:51 -0400 (Thu, 18 Apr 2024) EllapsedTime: 25.2 seconds RetCode: 0 Status: OK PackageFile: idr2d_1.16.0.tgz PackageFileSize: 1.766 MiB