Package: idpr Version: 1.12.0 Command: rm -rf idpr.buildbin-libdir && mkdir idpr.buildbin-libdir && /Users/biocbuild/BBS/utils/build-universal.sh idpr_1.12.0.tar.gz /Library/Frameworks/R.framework/Resources/bin/R idpr.buildbin-libdir StartedAt: 2024-04-18 09:43:17 -0400 (Thu, 18 Apr 2024) EndedAt: 2024-04-18 09:43:26 -0400 (Thu, 18 Apr 2024) EllapsedTime: 9.2 seconds RetCode: 0 Status: OK PackageFile: idpr_1.12.0.tgz PackageFileSize: 3.696 MiB