Package: ibh Version: 1.50.0 Command: /Library/Frameworks/R.framework/Resources/bin/R CMD build --keep-empty-dirs --no-resave-data ibh StartedAt: 2024-04-16 20:07:07 -0400 (Tue, 16 Apr 2024) EndedAt: 2024-04-16 20:07:17 -0400 (Tue, 16 Apr 2024) EllapsedTime: 10.2 seconds RetCode: 0 Status: OK PackageFile: ibh_1.50.0.tar.gz PackageFileSize: 127.3 KiB