Package: iSEE Version: 2.14.0 Command: /Library/Frameworks/R.framework/Resources/bin/R CMD build --keep-empty-dirs --no-resave-data iSEE StartedAt: 2024-04-16 20:30:28 -0400 (Tue, 16 Apr 2024) EndedAt: 2024-04-16 20:33:36 -0400 (Tue, 16 Apr 2024) EllapsedTime: 188.4 seconds RetCode: 0 Status: OK PackageFile: iSEE_2.14.0.tar.gz PackageFileSize: 25.36 MiB