Package: iPath Version: 1.8.0 Command: /Library/Frameworks/R.framework/Resources/bin/R CMD INSTALL iPath StartedAt: 2024-04-16 12:49:22 -0400 (Tue, 16 Apr 2024) EndedAt: 2024-04-16 12:49:45 -0400 (Tue, 16 Apr 2024) EllapsedTime: 22.9 seconds RetCode: 0 Status: OK