Package: iPath Version: 1.8.0 Command: /Library/Frameworks/R.framework/Resources/bin/R CMD check --install=check:iPath.install-out.txt --library=/Library/Frameworks/R.framework/Resources/library --no-vignettes --timings iPath_1.8.0.tar.gz StartedAt: 2024-04-17 17:12:57 -0400 (Wed, 17 Apr 2024) EndedAt: 2024-04-17 17:15:09 -0400 (Wed, 17 Apr 2024) EllapsedTime: 131.6 seconds RetCode: 0 Status: OK CheckDir: iPath.Rcheck Warnings: 0