Package: iCOBRA Version: 1.30.0 Command: /Library/Frameworks/R.framework/Resources/bin/R CMD INSTALL iCOBRA StartedAt: 2024-04-16 11:44:03 -0400 (Tue, 16 Apr 2024) EndedAt: 2024-04-16 11:44:15 -0400 (Tue, 16 Apr 2024) EllapsedTime: 12.4 seconds RetCode: 0 Status: OK