Package: iCNV Version: 1.22.0 Command: /Library/Frameworks/R.framework/Resources/bin/R CMD INSTALL iCNV StartedAt: 2024-04-16 10:53:54 -0400 (Tue, 16 Apr 2024) EndedAt: 2024-04-16 10:54:38 -0400 (Tue, 16 Apr 2024) EllapsedTime: 43.9 seconds RetCode: 0 Status: OK