Package: hummingbird Version: 1.12.0 Maintainer: Eleni Adam MaintainerEmail: eadam002 at odu.edu git_url: https://git.bioconductor.org/packages/hummingbird git_branch: RELEASE_3_18 git_last_commit: 8ba9af2 git_last_commit_date: 2023-10-24 11:24:28 -0400 (Tue, 24 Oct 2023)