Package: hicVennDiagram Version: 1.0.2 Command: /Library/Frameworks/R.framework/Resources/bin/R CMD check --install=check:hicVennDiagram.install-out.txt --library=/Library/Frameworks/R.framework/Resources/library --no-vignettes --timings hicVennDiagram_1.0.2.tar.gz StartedAt: 2024-04-17 16:19:32 -0400 (Wed, 17 Apr 2024) EndedAt: 2024-04-17 16:24:26 -0400 (Wed, 17 Apr 2024) EllapsedTime: 294.5 seconds RetCode: 0 Status: OK CheckDir: hicVennDiagram.Rcheck Warnings: 0