Package: hicVennDiagram Version: 1.0.2 Command: /Library/Frameworks/R.framework/Resources/bin/R CMD build --keep-empty-dirs --no-resave-data hicVennDiagram StartedAt: 2024-04-16 19:57:45 -0400 (Tue, 16 Apr 2024) EndedAt: 2024-04-16 19:59:00 -0400 (Tue, 16 Apr 2024) EllapsedTime: 75.7 seconds RetCode: 0 Status: OK PackageFile: hicVennDiagram_1.0.2.tar.gz PackageFileSize: 1.178 MiB