Package: hiReadsProcessor Version: 1.38.0 Command: rm -rf hiReadsProcessor.buildbin-libdir && mkdir hiReadsProcessor.buildbin-libdir && /Users/biocbuild/BBS/utils/build-universal.sh hiReadsProcessor_1.38.0.tar.gz /Library/Frameworks/R.framework/Resources/bin/R hiReadsProcessor.buildbin-libdir StartedAt: 2024-04-18 09:41:10 -0400 (Thu, 18 Apr 2024) EndedAt: 2024-04-18 09:42:08 -0400 (Thu, 18 Apr 2024) EllapsedTime: 58.0 seconds RetCode: 0 Status: OK PackageFile: hiReadsProcessor_1.38.0.tgz PackageFileSize: 3.001 MiB