Package: h5vc Version: 2.36.0 Command: rm -rf h5vc.buildbin-libdir && mkdir h5vc.buildbin-libdir && /Users/biocbuild/BBS/utils/build-universal.sh h5vc_2.36.0.tar.gz /Library/Frameworks/R.framework/Resources/bin/R h5vc.buildbin-libdir StartedAt: 2024-04-18 09:38:11 -0400 (Thu, 18 Apr 2024) EndedAt: 2024-04-18 09:38:44 -0400 (Thu, 18 Apr 2024) EllapsedTime: 32.9 seconds RetCode: 0 Status: OK PackageFile: h5vc_2.36.0.tgz PackageFileSize: 2.029 MiB