Package: gtrellis Version: 1.34.0 Command: rm -rf gtrellis.buildbin-libdir && mkdir gtrellis.buildbin-libdir && /Users/biocbuild/BBS/utils/build-universal.sh gtrellis_1.34.0.tar.gz /Library/Frameworks/R.framework/Resources/bin/R gtrellis.buildbin-libdir StartedAt: 2024-04-18 09:36:38 -0400 (Thu, 18 Apr 2024) EndedAt: 2024-04-18 09:36:57 -0400 (Thu, 18 Apr 2024) EllapsedTime: 19.3 seconds RetCode: 0 Status: OK PackageFile: gtrellis_1.34.0.tgz PackageFileSize: 4.132 MiB