Package: gsean Version: 1.22.0 Command: /Library/Frameworks/R.framework/Resources/bin/R CMD INSTALL gsean StartedAt: 2024-04-16 12:08:02 -0400 (Tue, 16 Apr 2024) EndedAt: 2024-04-16 12:08:33 -0400 (Tue, 16 Apr 2024) EllapsedTime: 30.7 seconds RetCode: 0 Status: OK