Package: gsean Version: 1.22.0 Command: /Library/Frameworks/R.framework/Resources/bin/R CMD build --keep-empty-dirs --no-resave-data gsean StartedAt: 2024-04-16 19:37:30 -0400 (Tue, 16 Apr 2024) EndedAt: 2024-04-16 19:38:48 -0400 (Tue, 16 Apr 2024) EllapsedTime: 77.6 seconds RetCode: 0 Status: OK PackageFile: gsean_1.22.0.tar.gz PackageFileSize: 1.534 MiB