Package: gscreend Version: 1.16.1 Command: /Library/Frameworks/R.framework/Resources/bin/R CMD build --keep-empty-dirs --no-resave-data gscreend StartedAt: 2024-04-16 19:34:31 -0400 (Tue, 16 Apr 2024) EndedAt: 2024-04-16 19:36:44 -0400 (Tue, 16 Apr 2024) EllapsedTime: 133.1 seconds RetCode: 0 Status: OK PackageFile: gscreend_1.16.1.tar.gz PackageFileSize: 3.113 MiB