Package: gscreend Version: 1.16.1 Maintainer: Katharina Imkeller MaintainerEmail: k.imkeller at dkfz.de git_url: https://git.bioconductor.org/packages/gscreend git_branch: RELEASE_3_18 git_last_commit: c8d008c git_last_commit_date: 2024-03-12 06:05:51 -0400 (Tue, 12 Mar 2024)