Package: graph Version: 1.80.0 Command: /Library/Frameworks/R.framework/Resources/bin/R CMD check --install=check:graph.install-out.txt --library=/Library/Frameworks/R.framework/Resources/library --no-vignettes --timings graph_1.80.0.tar.gz StartedAt: 2024-04-17 15:40:50 -0400 (Wed, 17 Apr 2024) EndedAt: 2024-04-17 15:41:50 -0400 (Wed, 17 Apr 2024) EllapsedTime: 59.9 seconds RetCode: 0 Status: OK CheckDir: graph.Rcheck Warnings: 0