Package: graper Version: 1.18.0 Command: /Library/Frameworks/R.framework/Resources/bin/R CMD build --keep-empty-dirs --no-resave-data graper StartedAt: 2024-04-16 19:30:06 -0400 (Tue, 16 Apr 2024) EndedAt: 2024-04-16 19:31:21 -0400 (Tue, 16 Apr 2024) EllapsedTime: 75.4 seconds RetCode: 0 Status: OK PackageFile: graper_1.18.0.tar.gz PackageFileSize: 927.8 KiB