Package: gpuMagic Version: 1.18.0 Maintainer: Jiefei Wang MaintainerEmail: szwjf08 at gmail.com git_url: https://git.bioconductor.org/packages/gpuMagic git_branch: RELEASE_3_18 git_last_commit: 4ee18d1 git_last_commit_date: 2023-10-24 11:13:30 -0400 (Tue, 24 Oct 2023)