Package: goseq Version: 1.54.0 Command: /Library/Frameworks/R.framework/Resources/bin/R CMD build --keep-empty-dirs --no-resave-data goseq StartedAt: 2024-04-16 19:21:21 -0400 (Tue, 16 Apr 2024) EndedAt: 2024-04-16 19:26:28 -0400 (Tue, 16 Apr 2024) EllapsedTime: 307.6 seconds RetCode: 0 Status: OK PackageFile: goseq_1.54.0.tar.gz PackageFileSize: 1.824 MiB