Package: goseq Version: 1.54.0 Command: rm -rf goseq.buildbin-libdir && mkdir goseq.buildbin-libdir && /Users/biocbuild/BBS/utils/build-universal.sh goseq_1.54.0.tar.gz /Library/Frameworks/R.framework/Resources/bin/R goseq.buildbin-libdir StartedAt: 2024-04-18 09:33:06 -0400 (Thu, 18 Apr 2024) EndedAt: 2024-04-18 09:34:01 -0400 (Thu, 18 Apr 2024) EllapsedTime: 54.7 seconds RetCode: 0 Status: OK PackageFile: goseq_1.54.0.tgz PackageFileSize: 1.872 MiB