Package: gmoviz Version: 1.14.0 Command: rm -rf gmoviz.buildbin-libdir && mkdir gmoviz.buildbin-libdir && /Users/biocbuild/BBS/utils/build-universal.sh gmoviz_1.14.0.tar.gz /Library/Frameworks/R.framework/Resources/bin/R gmoviz.buildbin-libdir StartedAt: 2024-04-18 09:32:06 -0400 (Thu, 18 Apr 2024) EndedAt: 2024-04-18 09:33:06 -0400 (Thu, 18 Apr 2024) EllapsedTime: 60.6 seconds RetCode: 0 Status: OK PackageFile: gmoviz_1.14.0.tgz PackageFileSize: 6.737 MiB