Package: globaltest Version: 5.56.0 Command: /Library/Frameworks/R.framework/Resources/bin/R CMD build --keep-empty-dirs --no-resave-data globaltest StartedAt: 2024-04-16 19:13:07 -0400 (Tue, 16 Apr 2024) EndedAt: 2024-04-16 19:53:08 -0400 (Tue, 16 Apr 2024) EllapsedTime: 2401.1 seconds RetCode: None Status: TIMEOUT PackageFile: None PackageFileSize: NA