Package: globalSeq Version: 1.30.0 Command: rm -rf globalSeq.buildbin-libdir && mkdir globalSeq.buildbin-libdir && /Users/biocbuild/BBS/utils/build-universal.sh globalSeq_1.30.0.tar.gz /Library/Frameworks/R.framework/Resources/bin/R globalSeq.buildbin-libdir StartedAt: 2024-04-18 09:31:42 -0400 (Thu, 18 Apr 2024) EndedAt: 2024-04-18 09:31:48 -0400 (Thu, 18 Apr 2024) EllapsedTime: 5.8 seconds RetCode: 0 Status: OK PackageFile: globalSeq_1.30.0.tgz PackageFileSize: 709.5 KiB