Package: ggsc Version: 1.0.2 Command: /Library/Frameworks/R.framework/Resources/bin/R CMD INSTALL ggsc StartedAt: 2024-04-16 12:05:15 -0400 (Tue, 16 Apr 2024) EndedAt: 2024-04-16 12:06:17 -0400 (Tue, 16 Apr 2024) EllapsedTime: 62.1 seconds RetCode: 0 Status: OK