Package: ggsc Version: 1.0.2 Command: rm -rf ggsc.buildbin-libdir && mkdir ggsc.buildbin-libdir && /Users/biocbuild/BBS/utils/build-universal.sh ggsc_1.0.2.tar.gz /Library/Frameworks/R.framework/Resources/bin/R ggsc.buildbin-libdir StartedAt: 2024-04-18 09:30:33 -0400 (Thu, 18 Apr 2024) EndedAt: 2024-04-18 09:31:52 -0400 (Thu, 18 Apr 2024) EllapsedTime: 79.6 seconds RetCode: 0 Status: OK PackageFile: ggsc_1.0.2.tgz PackageFileSize: 4.172 MiB