Package: ggkegg Version: 1.0.13 Command: /Library/Frameworks/R.framework/Resources/bin/R CMD build --keep-empty-dirs --no-resave-data ggkegg StartedAt: 2024-04-16 18:58:41 -0400 (Tue, 16 Apr 2024) EndedAt: 2024-04-16 18:59:41 -0400 (Tue, 16 Apr 2024) EllapsedTime: 60.4 seconds RetCode: 0 Status: OK PackageFile: ggkegg_1.0.13.tar.gz PackageFileSize: 3.452 MiB