Package: getDEE2 Version: 1.12.0 Command: /Library/Frameworks/R.framework/Resources/bin/R CMD build --keep-empty-dirs --no-resave-data getDEE2 StartedAt: 2024-04-16 18:56:04 -0400 (Tue, 16 Apr 2024) EndedAt: 2024-04-16 18:57:27 -0400 (Tue, 16 Apr 2024) EllapsedTime: 83.3 seconds RetCode: 0 Status: OK PackageFile: getDEE2_1.12.0.tar.gz PackageFileSize: 21.55 KiB