Package: genomicInstability Version: 1.8.0 Command: /Library/Frameworks/R.framework/Resources/bin/R CMD INSTALL genomicInstability StartedAt: 2024-04-16 11:55:58 -0400 (Tue, 16 Apr 2024) EndedAt: 2024-04-16 11:56:30 -0400 (Tue, 16 Apr 2024) EllapsedTime: 31.7 seconds RetCode: 0 Status: OK