Package: genomeIntervals Version: 1.58.0 Command: rm -rf genomeIntervals.buildbin-libdir && mkdir genomeIntervals.buildbin-libdir && /Users/biocbuild/BBS/utils/build-universal.sh genomeIntervals_1.58.0.tar.gz /Library/Frameworks/R.framework/Resources/bin/R genomeIntervals.buildbin-libdir StartedAt: 2024-04-18 09:26:31 -0400 (Thu, 18 Apr 2024) EndedAt: 2024-04-18 09:26:52 -0400 (Thu, 18 Apr 2024) EllapsedTime: 21.3 seconds RetCode: 0 Status: OK PackageFile: genomeIntervals_1.58.0.tgz PackageFileSize: 685.3 KiB