Package: geneplotter Version: 1.80.0 Command: /Library/Frameworks/R.framework/Resources/bin/R CMD check --install=check:geneplotter.install-out.txt --library=/Library/Frameworks/R.framework/Resources/library --no-vignettes --timings geneplotter_1.80.0.tar.gz StartedAt: 2024-04-17 14:32:54 -0400 (Wed, 17 Apr 2024) EndedAt: 2024-04-17 14:35:07 -0400 (Wed, 17 Apr 2024) EllapsedTime: 133.3 seconds RetCode: 0 Status: OK CheckDir: geneplotter.Rcheck Warnings: 0