Package: geneplotter Version: 1.80.0 Command: rm -rf geneplotter.buildbin-libdir && mkdir geneplotter.buildbin-libdir && /Users/biocbuild/BBS/utils/build-universal.sh geneplotter_1.80.0.tar.gz /Library/Frameworks/R.framework/Resources/bin/R geneplotter.buildbin-libdir StartedAt: 2024-04-18 09:25:15 -0400 (Thu, 18 Apr 2024) EndedAt: 2024-04-18 09:25:38 -0400 (Thu, 18 Apr 2024) EllapsedTime: 23.0 seconds RetCode: 0 Status: OK PackageFile: geneplotter_1.80.0.tgz PackageFileSize: 1.759 MiB