Package: geneXtendeR Version: 1.28.0 Command: /Library/Frameworks/R.framework/Resources/bin/R CMD check --install=check:geneXtendeR.install-out.txt --library=/Library/Frameworks/R.framework/Resources/library --no-vignettes --timings geneXtendeR_1.28.0.tar.gz StartedAt: 2024-04-17 14:35:36 -0400 (Wed, 17 Apr 2024) EndedAt: 2024-04-17 14:48:25 -0400 (Wed, 17 Apr 2024) EllapsedTime: 768.4 seconds RetCode: 0 Status: WARNINGS CheckDir: geneXtendeR.Rcheck Warnings: 1