Package: geneRecommender Version: 1.74.0 Command: /Library/Frameworks/R.framework/Resources/bin/R CMD check --install=check:geneRecommender.install-out.txt --library=/Library/Frameworks/R.framework/Resources/library --no-vignettes --timings geneRecommender_1.74.0.tar.gz StartedAt: 2024-04-17 14:33:07 -0400 (Wed, 17 Apr 2024) EndedAt: 2024-04-17 14:33:36 -0400 (Wed, 17 Apr 2024) EllapsedTime: 30.0 seconds RetCode: 0 Status: OK CheckDir: geneRecommender.Rcheck Warnings: 0