Package: geneRecommender Version: 1.74.0 Maintainer: Greg Hather MaintainerEmail: ghather at gmail.com git_url: https://git.bioconductor.org/packages/geneRecommender git_branch: RELEASE_3_18 git_last_commit: 33c4600 git_last_commit_date: 2023-10-24 09:35:05 -0400 (Tue, 24 Oct 2023)