Package: geneAttribution Version: 1.28.0 Command: /Library/Frameworks/R.framework/Resources/bin/R CMD check --install=check:geneAttribution.install-out.txt --library=/Library/Frameworks/R.framework/Resources/library --no-vignettes --timings geneAttribution_1.28.0.tar.gz StartedAt: 2024-04-17 14:27:26 -0400 (Wed, 17 Apr 2024) EndedAt: 2024-04-17 14:32:54 -0400 (Wed, 17 Apr 2024) EllapsedTime: 328.3 seconds RetCode: 0 Status: OK CheckDir: geneAttribution.Rcheck Warnings: 0