Package: gcatest Version: 2.2.0 Command: /Library/Frameworks/R.framework/Resources/bin/R CMD build --keep-empty-dirs --no-resave-data gcatest StartedAt: 2024-04-16 18:29:50 -0400 (Tue, 16 Apr 2024) EndedAt: 2024-04-16 18:30:31 -0400 (Tue, 16 Apr 2024) EllapsedTime: 41.1 seconds RetCode: 0 Status: OK PackageFile: gcatest_2.2.0.tar.gz PackageFileSize: 2.147 MiB