Package: gatom Version: 1.0.0 Command: /Library/Frameworks/R.framework/Resources/bin/R CMD build --keep-empty-dirs --no-resave-data gatom StartedAt: 2024-04-16 18:28:26 -0400 (Tue, 16 Apr 2024) EndedAt: 2024-04-16 18:34:12 -0400 (Tue, 16 Apr 2024) EllapsedTime: 346.3 seconds RetCode: 0 Status: OK PackageFile: gatom_1.0.0.tar.gz PackageFileSize: 1.61 MiB