Package: gaggle Version: 1.70.0 Command: /Library/Frameworks/R.framework/Resources/bin/R CMD INSTALL gaggle StartedAt: 2024-04-16 10:08:05 -0400 (Tue, 16 Apr 2024) EndedAt: 2024-04-16 10:08:10 -0400 (Tue, 16 Apr 2024) EllapsedTime: 4.9 seconds RetCode: 0 Status: OK