Package: gaggle Version: 1.70.0 Command: /Library/Frameworks/R.framework/Resources/bin/R CMD build --keep-empty-dirs --no-resave-data gaggle StartedAt: 2024-04-16 18:26:59 -0400 (Tue, 16 Apr 2024) EndedAt: 2024-04-16 18:27:11 -0400 (Tue, 16 Apr 2024) EllapsedTime: 11.5 seconds RetCode: 0 Status: OK PackageFile: gaggle_1.70.0.tar.gz PackageFileSize: 285.5 KiB