Package: gage Version: 2.52.0 Command: /Library/Frameworks/R.framework/Resources/bin/R CMD build --keep-empty-dirs --no-resave-data gage StartedAt: 2024-04-16 18:26:42 -0400 (Tue, 16 Apr 2024) EndedAt: 2024-04-16 18:29:48 -0400 (Tue, 16 Apr 2024) EllapsedTime: 185.9 seconds RetCode: 0 Status: OK PackageFile: gage_2.52.0.tar.gz PackageFileSize: 4.282 MiB