Package: gDNAx Version: 1.0.2 Command: /Library/Frameworks/R.framework/Resources/bin/R CMD INSTALL gDNAx StartedAt: 2024-04-16 13:03:11 -0400 (Tue, 16 Apr 2024) EndedAt: 2024-04-16 13:04:07 -0400 (Tue, 16 Apr 2024) EllapsedTime: 56.1 seconds RetCode: 0 Status: OK